BEGIN:VCALENDAR
VERSION:2.0
PRODID:-//Grace &amp; Mercy Charitable Foundation - ECPv6.15.20//NONSGML v1.0//EN
CALSCALE:GREGORIAN
METHOD:PUBLISH
X-ORIGINAL-URL:https://gracemercyfoundation.com
X-WR-CALDESC:Events for Grace &amp; Mercy Charitable Foundation
REFRESH-INTERVAL;VALUE=DURATION:PT1H
X-Robots-Tag:noindex
X-PUBLISHED-TTL:PT1H
BEGIN:VTIMEZONE
TZID:America/Los_Angeles
BEGIN:DAYLIGHT
TZOFFSETFROM:-0800
TZOFFSETTO:-0700
TZNAME:PDT
DTSTART:20200308T100000
END:DAYLIGHT
BEGIN:STANDARD
TZOFFSETFROM:-0700
TZOFFSETTO:-0800
TZNAME:PST
DTSTART:20201101T090000
END:STANDARD
BEGIN:DAYLIGHT
TZOFFSETFROM:-0800
TZOFFSETTO:-0700
TZNAME:PDT
DTSTART:20210314T100000
END:DAYLIGHT
BEGIN:STANDARD
TZOFFSETFROM:-0700
TZOFFSETTO:-0800
TZNAME:PST
DTSTART:20211107T090000
END:STANDARD
BEGIN:DAYLIGHT
TZOFFSETFROM:-0800
TZOFFSETTO:-0700
TZNAME:PDT
DTSTART:20220313T100000
END:DAYLIGHT
BEGIN:STANDARD
TZOFFSETFROM:-0700
TZOFFSETTO:-0800
TZNAME:PST
DTSTART:20221106T090000
END:STANDARD
BEGIN:DAYLIGHT
TZOFFSETFROM:-0800
TZOFFSETTO:-0700
TZNAME:PDT
DTSTART:20230312T100000
END:DAYLIGHT
BEGIN:STANDARD
TZOFFSETFROM:-0700
TZOFFSETTO:-0800
TZNAME:PST
DTSTART:20231105T090000
END:STANDARD
BEGIN:DAYLIGHT
TZOFFSETFROM:-0800
TZOFFSETTO:-0700
TZNAME:PDT
DTSTART:20240310T100000
END:DAYLIGHT
BEGIN:STANDARD
TZOFFSETFROM:-0700
TZOFFSETTO:-0800
TZNAME:PST
DTSTART:20241103T090000
END:STANDARD
BEGIN:DAYLIGHT
TZOFFSETFROM:-0800
TZOFFSETTO:-0700
TZNAME:PDT
DTSTART:20250309T100000
END:DAYLIGHT
BEGIN:STANDARD
TZOFFSETFROM:-0700
TZOFFSETTO:-0800
TZNAME:PST
DTSTART:20251102T090000
END:STANDARD
BEGIN:DAYLIGHT
TZOFFSETFROM:-0800
TZOFFSETTO:-0700
TZNAME:PDT
DTSTART:20260308T100000
END:DAYLIGHT
BEGIN:STANDARD
TZOFFSETFROM:-0700
TZOFFSETTO:-0800
TZNAME:PST
DTSTART:20261101T090000
END:STANDARD
END:VTIMEZONE
BEGIN:VTIMEZONE
TZID:America/Chicago
BEGIN:DAYLIGHT
TZOFFSETFROM:-0600
TZOFFSETTO:-0500
TZNAME:CDT
DTSTART:20220313T080000
END:DAYLIGHT
BEGIN:STANDARD
TZOFFSETFROM:-0500
TZOFFSETTO:-0600
TZNAME:CST
DTSTART:20221106T070000
END:STANDARD
BEGIN:DAYLIGHT
TZOFFSETFROM:-0600
TZOFFSETTO:-0500
TZNAME:CDT
DTSTART:20230312T080000
END:DAYLIGHT
BEGIN:STANDARD
TZOFFSETFROM:-0500
TZOFFSETTO:-0600
TZNAME:CST
DTSTART:20231105T070000
END:STANDARD
BEGIN:DAYLIGHT
TZOFFSETFROM:-0600
TZOFFSETTO:-0500
TZNAME:CDT
DTSTART:20240310T080000
END:DAYLIGHT
BEGIN:STANDARD
TZOFFSETFROM:-0500
TZOFFSETTO:-0600
TZNAME:CST
DTSTART:20241103T070000
END:STANDARD
END:VTIMEZONE
BEGIN:VEVENT
DTSTART;TZID=America/Los_Angeles:20250322T113000
DTEND;TZID=America/Los_Angeles:20250322T163000
DTSTAMP:20260419T102409
CREATED:20250313T204711Z
LAST-MODIFIED:20250313T204907Z
UID:10000030-1742643000-1742661000@gracemercyfoundation.com
SUMMARY:Pop Up BBQ
DESCRIPTION:  \nOnline Registration Ends @ 6:ooPM – May 21\, 2025
URL:https://gracemercyfoundation.com/event/pop-up-bbq/
LOCATION:G&M Lodi\, 425 N Sacramento St.\, Lodi\, CA\, 95240\, United States
CATEGORIES:Fundraiser
END:VEVENT
BEGIN:VEVENT
DTSTART;TZID=America/Los_Angeles:20250214T170000
DTEND;TZID=America/Los_Angeles:20250214T210000
DTSTAMP:20260419T102409
CREATED:20241209T233613Z
LAST-MODIFIED:20241217T201352Z
UID:10000029-1739552400-1739566800@gracemercyfoundation.com
SUMMARY:Crab Feed
DESCRIPTION:  \nSept.15\, 2023  \nOnline Registration Ends @ 6:ooPM – February 13\, 2025
URL:https://gracemercyfoundation.com/event/crab-feed/
LOCATION:G&M Lodi\, 425 N Sacramento St.\, Lodi\, CA\, 95240\, United States
CATEGORIES:Fundraiser,GM Events
END:VEVENT
BEGIN:VEVENT
DTSTART;TZID=America/Los_Angeles:20240525T133000
DTEND;TZID=America/Los_Angeles:20240525T170000
DTSTAMP:20260419T102409
CREATED:20240311T202314Z
LAST-MODIFIED:20240311T202420Z
UID:10000027-1716643800-1716656400@gracemercyfoundation.com
SUMMARY:Drive Thru BBQ
DESCRIPTION:  \nOnline Registration Ends @ 6:ooPM – May 24\, 2024
URL:https://gracemercyfoundation.com/event/drive-thru-bbq/
LOCATION:G&M Lodi\, 425 N Sacramento St.\, Lodi\, CA\, 95240\, United States
END:VEVENT
BEGIN:VEVENT
DTSTART;TZID=America/Los_Angeles:20240510T170000
DTEND;TZID=America/Los_Angeles:20240510T220000
DTSTAMP:20260419T102409
CREATED:20240416T222520Z
LAST-MODIFIED:20240416T222952Z
UID:10000028-1715360400-1715378400@gracemercyfoundation.com
SUMMARY:2024 Spring Fling
DESCRIPTION:  \nOnline Registration Ends @ 12:ooPM – May 10\, 2024
URL:https://gracemercyfoundation.com/event/2024-spring-fling/
LOCATION:G&M Lodi\, 425 N Sacramento St.\, Lodi\, CA\, 95240\, United States
END:VEVENT
BEGIN:VEVENT
DTSTART;TZID=America/Los_Angeles:20240413T113000
DTEND;TZID=America/Los_Angeles:20240413T123000
DTSTAMP:20260419T102409
CREATED:20240311T201627Z
LAST-MODIFIED:20240311T202451Z
UID:10000026-1713007800-1713011400@gracemercyfoundation.com
SUMMARY:Bunco @ Lunch Fundraiser
DESCRIPTION:
URL:https://gracemercyfoundation.com/event/bunco-lunch-fundraiser/
LOCATION:The Moose – Lodi Lodge\, 3524 E. Woodbridge Road\, Acampo\, California
END:VEVENT
BEGIN:VEVENT
DTSTART;TZID=America/Los_Angeles:20240223T143000
DTEND;TZID=America/Los_Angeles:20240223T173000
DTSTAMP:20260419T102409
CREATED:20240221T230443Z
LAST-MODIFIED:20240221T230613Z
UID:10000025-1708698600-1708709400@gracemercyfoundation.com
SUMMARY:Drive Thru Seafood Boil
DESCRIPTION:SEAFOOD BOIL FUNDRAISER\n\n\n\nGet your tickets early – only a Limited number of seats are available\n  \nRSVP DEADLINE: NOON FEBRUARY 23\, 2024
URL:https://gracemercyfoundation.com/event/drive-thru-seafood-boil/
LOCATION:G&M Lodi\, 425 N Sacramento St.\, Lodi\, CA\, 95240\, United States
CATEGORIES:Fundraiser
END:VEVENT
BEGIN:VEVENT
DTSTART;TZID=America/Los_Angeles:20240203T170000
DTEND;TZID=America/Los_Angeles:20240203T210000
DTSTAMP:20260419T102409
CREATED:20231204T162128Z
LAST-MODIFIED:20231204T162543Z
UID:10000024-1706979600-1706994000@gracemercyfoundation.com
SUMMARY:G&M Crab Feed
DESCRIPTION:GRACE & MERCY CRAB FEED\n  \n \n  \n\nONLINE ORDER DEADLINE: \nFEBRUARY 2\, 2024 @ 5 P.M.\n 
URL:https://gracemercyfoundation.com/event/2024-02-03-crab-feed/
LOCATION:G&M Lodi\, 425 N Sacramento St.\, Lodi\, CA\, 95240\, United States
CATEGORIES:Fundraiser
END:VEVENT
BEGIN:VEVENT
DTSTART;TZID=America/Chicago:20231104T160000
DTEND;TZID=America/Chicago:20231104T210000
DTSTAMP:20260419T102409
CREATED:20230824T230402Z
LAST-MODIFIED:20231025T000154Z
UID:10000023-1699113600-1699131600@gracemercyfoundation.com
SUMMARY:Charity\, Hope\, Love Fundraiser - Houston
DESCRIPTION:A FUNDRAISER TO SUPPORT THE HOUSTON COMMUNITY\n  \n \n\n  \nLive Entertainment with: TWO BLACK GUYS\n\nONLINE ORDER DEADLINE: \nNovember 3\, 2023 @ 5 P.M.\n 
URL:https://gracemercyfoundation.com/event/charity-hope-love-fundraiser-houston/
LOCATION:Ensemble Theatre\, 3535 Main St\, Houston\, 77002\, United States
CATEGORIES:Fundraiser
END:VEVENT
BEGIN:VEVENT
DTSTART;TZID=America/Los_Angeles:20230915T160000
DTEND;TZID=America/Los_Angeles:20230915T210000
DTSTAMP:20260419T102409
CREATED:20230717T210812Z
LAST-MODIFIED:20230907T025520Z
UID:10000022-1694793600-1694811600@gracemercyfoundation.com
SUMMARY:An Evening of Southern Hospitality
DESCRIPTION:An Evening of Southern Hospitality\n  \n \n  \nHomemade Southern Dishes\nSalad Bar\nScrumptious Desserts\nLIVE Entertainment with: DeJay Mullins & the Stepping Stones\n\nONLINE ORDER DEADLINE: \nAugust 14\, 2023 @ 5 P.M.\n 
URL:https://gracemercyfoundation.com/event/southern-hospitality/
LOCATION:The Moose Lodge – Acampo\, 3824 E Woodbridge Rd\, Acampo\, 95220
CATEGORIES:Fundraiser
END:VEVENT
BEGIN:VEVENT
DTSTART;TZID=America/Los_Angeles:20230604T113000
DTEND;TZID=America/Los_Angeles:20230604T143000
DTSTAMP:20260419T102409
CREATED:20230413T163423Z
LAST-MODIFIED:20230413T163710Z
UID:10000021-1685878200-1685889000@gracemercyfoundation.com
SUMMARY:It's Bunco Time!
DESCRIPTION:
URL:https://gracemercyfoundation.com/event/its-bunco-time/
LOCATION:The Moose – Lodi Lodge\, 3524 E. Woodbridge Road\, Acampo\, California
END:VEVENT
BEGIN:VEVENT
DTSTART;TZID=America/Los_Angeles:20230526T173000
DTEND;TZID=America/Los_Angeles:20230526T210000
DTSTAMP:20260419T102409
CREATED:20230413T162220Z
LAST-MODIFIED:20230413T163731Z
UID:10000020-1685122200-1685134800@gracemercyfoundation.com
SUMMARY:Africa Fundraiser
DESCRIPTION:
URL:https://gracemercyfoundation.com/event/africa-fundraiser/
LOCATION:G&M Lodi\, 425 N Sacramento St.\, Lodi\, CA\, 95240\, United States
CATEGORIES:Fundraiser
END:VEVENT
BEGIN:VEVENT
DTSTART;TZID=America/Los_Angeles:20230210T170000
DTEND;TZID=America/Los_Angeles:20230210T200000
DTSTAMP:20260419T102409
CREATED:20230131T004638Z
LAST-MODIFIED:20230131T195731Z
UID:10000019-1676048400-1676059200@gracemercyfoundation.com
SUMMARY:GM Grand Re-Opening
DESCRIPTION:JOIN US FOR OUR GRAND RE-OPENING\nOPEN TO THE PUBLIC – ALL ARE WELCOME\n  \n\n \nTHIS EVENT IS FREE\nIF YOU WOULD LIKE TO HELP OFFSET THE EXPENSE VIA A GENEROUS DONATION\, CLICK HERE.
URL:https://gracemercyfoundation.com/event/gm-grand-re-opening/
LOCATION:G&M Lodi\, 425 N Sacramento St.\, Lodi\, CA\, 95240\, United States
END:VEVENT
BEGIN:VEVENT
DTSTART;TZID=America/Los_Angeles:20221216T170000
DTEND;TZID=America/Los_Angeles:20221216T210000
DTSTAMP:20260419T102409
CREATED:20221215T220237Z
LAST-MODIFIED:20221215T220237Z
UID:10000018-1671210000-1671224400@gracemercyfoundation.com
SUMMARY:Christmas Around the World
DESCRIPTION:
URL:https://gracemercyfoundation.com/event/christmas-around-the-world/
LOCATION:G&M Lodi\, 425 N Sacramento St.\, Lodi\, CA\, 95240\, United States
END:VEVENT
BEGIN:VEVENT
DTSTART;TZID=America/Los_Angeles:20221110T190000
DTEND;TZID=America/Los_Angeles:20221110T210000
DTSTAMP:20260419T102409
CREATED:20221027T015931Z
LAST-MODIFIED:20221027T020048Z
UID:10000017-1668106800-1668114000@gracemercyfoundation.com
SUMMARY:Stockton Kings v. Salt Lake City Stars
DESCRIPTION:JOIN US FOR BASKETBALL\nSTOCKTON KINGS VS. SALT LAKE CITY STARS\n  \n \nJoin the Stockton Kings and Grace and Mercy Charitable Foundation on November 10th as we take on the Salt Lake City Stars at 7pm at the Stockton Arena. All proceeds will go directly to Grace and Mercy. \n  \nBUY YOUR TICKETS HERE
URL:https://gracemercyfoundation.com/event/stockton-kings-fundraiser/
LOCATION:Stockton Arena\, 248 W Fremont St\, Stockton\, CA\, 85203\, United States
END:VEVENT
BEGIN:VEVENT
DTSTART;TZID=America/Los_Angeles:20221022T080000
DTEND;TZID=America/Los_Angeles:20221022T150000
DTSTAMP:20260419T102409
CREATED:20220809T220357Z
LAST-MODIFIED:20221019T151958Z
UID:10000016-1666425600-1666450800@gracemercyfoundation.com
SUMMARY:6th Annual Golf & Bunco Tournament (CANCELLED)
DESCRIPTION:6th Annual Golf & Bunco Tournament\n  \nTHIS EVENT HAS BEEN CANCELLED\nThank you for your continued support\nJOIN US FOR A DAY OF FUN AND GOLF TO BENEFIT\nGRACE AND MERCY CHARITABLE FOUNDATION\nOctober 22\, 2022\nLOCATION: Micke Grove Golf Links\, Lodi\, CA\n\nEntry Fees Include: \nContinental Breakfast\nGolf Cart for 4-some\nSwag-Bag\nLunch\nAppetizers & Wine Pairing \n  \nSponsorship opportunities available HERE\nor call 209-224-5273\n 
URL:https://gracemercyfoundation.com/event/6th-annual-golf-tournament/
LOCATION:Micke Grove Golf Links\, 11401 Micke Grove Road\, Lodi\, CA\, 95240\, United States
CATEGORIES:GM Events
END:VEVENT
BEGIN:VEVENT
DTSTART;TZID=America/Los_Angeles:20220826T173000
DTEND;TZID=America/Los_Angeles:20220826T210000
DTSTAMP:20260419T102409
CREATED:20220726T220938Z
LAST-MODIFIED:20220727T035507Z
UID:10000015-1661535000-1661547600@gracemercyfoundation.com
SUMMARY:DeJay Mullins Birthday Bash
DESCRIPTION:
URL:https://gracemercyfoundation.com/event/dejay-mullins-birthday-bash/
LOCATION:G&M Lodi\, 425 N Sacramento St.\, Lodi\, CA\, 95240\, United States
CATEGORIES:GM Events
END:VEVENT
BEGIN:VEVENT
DTSTART;TZID=America/Los_Angeles:20220618T160000
DTEND;TZID=America/Los_Angeles:20220618T220000
DTSTAMP:20260419T102409
CREATED:20220517T221214Z
LAST-MODIFIED:20220613T231942Z
UID:10000014-1655568000-1655589600@gracemercyfoundation.com
SUMMARY:An Evening Affair of Southern Hospitality
DESCRIPTION:
URL:https://gracemercyfoundation.com/event/an-evening-of-southern-hospitality/
LOCATION:2022 Southern Hospitality\, 23620 N. Tully Road\, Acampo\, CA\, United States
CATEGORIES:Fundraiser
END:VEVENT
BEGIN:VEVENT
DTSTART;TZID=America/Los_Angeles:20220520T173000
DTEND;TZID=America/Los_Angeles:20220520T210000
DTSTAMP:20260419T102409
CREATED:20220517T215547Z
LAST-MODIFIED:20220517T215652Z
UID:10000013-1653067800-1653080400@gracemercyfoundation.com
SUMMARY:Friday Night Jazz with DeeJay Mullins
DESCRIPTION:
URL:https://gracemercyfoundation.com/event/friday-night-jazz-with-deejay-mullins-2/
LOCATION:G&M Lodi\, 425 N Sacramento St.\, Lodi\, CA\, 95240\, United States
CATEGORIES:Fundraiser
END:VEVENT
BEGIN:VEVENT
DTSTART;TZID=America/Los_Angeles:20220507T110000
DTEND;TZID=America/Los_Angeles:20220507T160000
DTSTAMP:20260419T102409
CREATED:20220430T063226Z
LAST-MODIFIED:20220430T065706Z
UID:10000012-1651921200-1651939200@gracemercyfoundation.com
SUMMARY:GM Drive-Thru BBQ
DESCRIPTION:Drive Thru BBQ Fundraiser\n  \n \n  \n  \nORDERS DEADLINE: MAY 6\, 2022 @ 5 P.M.\n 
URL:https://gracemercyfoundation.com/event/2603/
LOCATION:G&M Lodi\, 425 N Sacramento St.\, Lodi\, CA\, 95240\, United States
CATEGORIES:Fundraiser
END:VEVENT
BEGIN:VEVENT
DTSTART;TZID=America/Los_Angeles:20220422T173000
DTEND;TZID=America/Los_Angeles:20220422T213000
DTSTAMP:20260419T102409
CREATED:20220402T185255Z
LAST-MODIFIED:20220402T185553Z
UID:10000011-1650648600-1650663000@gracemercyfoundation.com
SUMMARY:Friday Night Jazz with DeeJay Mullins
DESCRIPTION:
URL:https://gracemercyfoundation.com/event/friday-night-jazz-with-deejay-mullins/
LOCATION:G&M Lodi\, 425 N Sacramento St.\, Lodi\, CA\, 95240\, United States
CATEGORIES:Fundraiser,GM Events
END:VEVENT
BEGIN:VEVENT
DTSTART;TZID=America/Los_Angeles:20220211T173000
DTEND;TZID=America/Los_Angeles:20220211T200000
DTSTAMP:20260419T102409
CREATED:20220125T012424Z
LAST-MODIFIED:20220201T211915Z
UID:10000010-1644600600-1644609600@gracemercyfoundation.com
SUMMARY:Seafood Boil
DESCRIPTION:SEAFOOD BOIL FUNDRAISER\n\n\n\nLive Music by DJ Mullins\nGreat Raffle Prizes and a Silent Auction!!\nGet your tickets early – only a Limited number of seats are available\n  \nRSVP DEADLINE: FEBRUARY 4\, 2022
URL:https://gracemercyfoundation.com/event/seafood-boil/
LOCATION:G&M Lodi\, 425 N Sacramento St.\, Lodi\, CA\, 95240\, United States
CATEGORIES:Fundraiser
END:VEVENT
BEGIN:VEVENT
DTSTART;TZID=America/Los_Angeles:20210926T080000
DTEND;TZID=America/Los_Angeles:20210926T160000
DTSTAMP:20260419T102409
CREATED:20210708T155056Z
LAST-MODIFIED:20210923T181646Z
UID:10000009-1632643200-1632672000@gracemercyfoundation.com
SUMMARY:5th Annual Golf Tournament
DESCRIPTION:5th Annual Golf Tournament\n  \nJOIN US FOR A DAY OF FUN AND GOLF TO BENEFIT\nGRACE AND MERCY CHARITABLE FOUNDATION\nSEPTEMBER 26\, 2021\nLOCATION: Oakmoore Golf Course\, Stockton\, CA\n\nEntry Fees Include: \nContinental Breakfast\nSwag-Bag\nLunch\n2 Drink Tickets\nAppetizers\, Wine & Live Music \n  \nSponsorship opportunities available: 209-224-5273\n 
URL:https://gracemercyfoundation.com/event/grace-and-mercy-5th-annual-golf-tournament/
LOCATION:Oakmoore Golf Course\, 3737 N Wilson Way\, Stockton\, CA\, 95205\, United States
CATEGORIES:Fundraiser,GM Events
END:VEVENT
END:VCALENDAR